BEGIN:VCALENDAR
VERSION:2.0
PRODID:-//convitein
CALSCALE:GREGORIAN
BEGIN:VEVENT
SUMMARY:Coração Azul
DTSTART:20250730T160000Z
DTEND:20250730T160000Z
DESCRIPTION:Tenho até o dia 30/07/2025 para confirmar presença (ou ausência) no evento Coração Azul que ocorrerá dia 30/07/2025 às 13:00 em R. Sergio Fernandes Borges Soares, 1000 - Distrito Industrial, Campinas - SP, 13030-150
LOCATION:R. Sergio Fernandes Borges Soares, 1000 - Distrito Industrial, Campinas - SP, 13030-150
END:VEVENT
END:VCALENDAR